BEGIN:VCALENDAR
VERSION:2.0
PRODID:-//Bacon Free Library - ECPv6.15.17.1//NONSGML v1.0//EN
CALSCALE:GREGORIAN
METHOD:PUBLISH
X-ORIGINAL-URL:https://baconfreelibrary.org
X-WR-CALDESC:Events for Bacon Free Library
REFRESH-INTERVAL;VALUE=DURATION:PT1H
X-Robots-Tag:noindex
X-PUBLISHED-TTL:PT1H
BEGIN:VTIMEZONE
TZID:America/New_York
BEGIN:DAYLIGHT
TZOFFSETFROM:-0500
TZOFFSETTO:-0400
TZNAME:EDT
DTSTART:20250309T070000
END:DAYLIGHT
BEGIN:STANDARD
TZOFFSETFROM:-0400
TZOFFSETTO:-0500
TZNAME:EST
DTSTART:20251102T060000
END:STANDARD
BEGIN:DAYLIGHT
TZOFFSETFROM:-0500
TZOFFSETTO:-0400
TZNAME:EDT
DTSTART:20260308T070000
END:DAYLIGHT
BEGIN:STANDARD
TZOFFSETFROM:-0400
TZOFFSETTO:-0500
TZNAME:EST
DTSTART:20261101T060000
END:STANDARD
BEGIN:DAYLIGHT
TZOFFSETFROM:-0500
TZOFFSETTO:-0400
TZNAME:EDT
DTSTART:20270314T070000
END:DAYLIGHT
BEGIN:STANDARD
TZOFFSETFROM:-0400
TZOFFSETTO:-0500
TZNAME:EST
DTSTART:20271107T060000
END:STANDARD
END:VTIMEZONE
BEGIN:VEVENT
DTSTART;TZID=America/New_York:20260302T153000
DTEND;TZID=America/New_York:20260302T170000
DTSTAMP:20260419T092450
CREATED:20260214T145004Z
LAST-MODIFIED:20260214T155544Z
UID:54211-1772465400-1772470800@baconfreelibrary.org
SUMMARY:Art for All! Zentangle/Doodling
DESCRIPTION:Try this mindful\, “brain yoga” practice of creating intricate designs in structured patterns in ink on paper. \nDrop-in to do this craft in the library or call ahead for curbside pickup “take & make.” \nArt for All is for ages 4 through adult.  Upcoming projects include: \nWeek of March 9: Friendship Bracelets Mon 3/9 & Fri 3/13\, 3:30-5:00pm; Sat 3/14 11:30am-1:00pm \nWeek of March 16: Embroidered Felt Bookmarks Mon 3/16 & Fri 3/20\, 3:30-5:00pm; Sat 3/21 11:30am-1:00pm \nWeek of March 23: Tissue Paper Flowers Mon 3/23 & Fri 3/27\, 3:30-5:00pm; Sat 3/28 11:30am-1:00pm \n 
URL:https://baconfreelibrary.org/event/art-for-all-zentangle-doodling-2/
LOCATION:Bacon Free Library\, 58 Eliot Street\, Natick\, MA\, 01760\, United States
CATEGORIES:All Ages
ATTACH;FMTTYPE=image/jpeg:https://baconfreelibrary.org/wp-content/uploads/2025/03/zentangle.jpg
GEO:42.285064;-71.346109
X-APPLE-STRUCTURED-LOCATION;VALUE=URI;X-ADDRESS=Bacon Free Library 58 Eliot Street Natick MA 01760 United States;X-APPLE-RADIUS=500;X-TITLE=58 Eliot Street:geo:-71.346109,42.285064
END:VEVENT
BEGIN:VEVENT
DTSTART;TZID=America/New_York:20260306T153000
DTEND;TZID=America/New_York:20260306T170000
DTSTAMP:20260419T092450
CREATED:20260214T145039Z
LAST-MODIFIED:20260303T192015Z
UID:54213-1772811000-1772816400@baconfreelibrary.org
SUMMARY:Art for All! Zentangle/Doodling
DESCRIPTION:Try this mindful\, “brain yoga” practice of creating intricate designs in structured patterns in ink on paper. \nDrop-in to do this craft in the library or call ahead for curbside pickup “take & make.” \n  \nArt for All is for ages 4 through adult.  \nUpcoming projects include: \nWeek of March 9: Friendship Bracelets — Mon 3/9 & Fri 3/13\, 3:30-5:00pm; Sat 3/14\, 11:30am-1:00pm \nWeek of March 16: Embroidered Felt Bookmarks — Mon 3/16 & Fri 3/20\, 3:30-5:00pm; Sat 3/21\, 11:30am-1:00pm \nWeek of March 23: Tissue Paper Flowers  — Mon 3/23 & Fri 3/27\, 3:30-5:00pm; Sat 3/28\, 11:30am-1:00pm \nWeek of April 6: Paper Quilling — Mon 4/6 & Fri 4/10\, 3:30-5:00pm; Sat 4/11\, 11:30am-1:00pm
URL:https://baconfreelibrary.org/event/art-for-all-zentangle-doodling-2-2/
LOCATION:Bacon Free Library\, 58 Eliot Street\, Natick\, MA\, 01760\, United States
CATEGORIES:All Ages
ATTACH;FMTTYPE=image/jpeg:https://baconfreelibrary.org/wp-content/uploads/2025/03/zentangle.jpg
GEO:42.285064;-71.346109
X-APPLE-STRUCTURED-LOCATION;VALUE=URI;X-ADDRESS=Bacon Free Library 58 Eliot Street Natick MA 01760 United States;X-APPLE-RADIUS=500;X-TITLE=58 Eliot Street:geo:-71.346109,42.285064
END:VEVENT
BEGIN:VEVENT
DTSTART;TZID=America/New_York:20260307T113000
DTEND;TZID=America/New_York:20260307T130000
DTSTAMP:20260419T092450
CREATED:20260202T171023Z
LAST-MODIFIED:20260303T192109Z
UID:54034-1772883000-1772888400@baconfreelibrary.org
SUMMARY:Art for All! Zentangle/Doodling
DESCRIPTION:Try this mindful\, “brain yoga” practice of creating intricate designs in structured patterns in ink on paper. \nDrop-in to do this craft in the library or call ahead for curbside pickup “take & make.” \n  \nArt for All is for ages 4 through adult.  \nUpcoming projects include: \nWeek of March 9: Friendship Bracelets — Mon 3/9 & Fri 3/13\, 3:30-5:00pm; Sat 3/14\, 11:30am-1:00pm \nWeek of March 16: Embroidered Felt Bookmarks — Mon 3/16 & Fri 3/20\, 3:30-5:00pm; Sat 3/21\, 11:30am-1:00pm \nWeek of March 23: Tissue Paper Flowers  — Mon 3/23 & Fri 3/27\, 3:30-5:00pm; Sat 3/28\, 11:30am-1:00pm \nWeek of April 6: Paper Quilling — Mon 4/6 & Fri 4/10\, 3:30-5:00pm; Sat 4/11\, 11:30am-1:00pm \n  \n 
URL:https://baconfreelibrary.org/event/art-for-all-zentangle-doodling/
LOCATION:Bacon Free Library\, 58 Eliot Street\, Natick\, MA\, 01760\, United States
CATEGORIES:All Ages
ATTACH;FMTTYPE=image/jpeg:https://baconfreelibrary.org/wp-content/uploads/2025/03/zentangle.jpg
GEO:42.285064;-71.346109
X-APPLE-STRUCTURED-LOCATION;VALUE=URI;X-ADDRESS=Bacon Free Library 58 Eliot Street Natick MA 01760 United States;X-APPLE-RADIUS=500;X-TITLE=58 Eliot Street:geo:-71.346109,42.285064
END:VEVENT
END:VCALENDAR