BEGIN:VCALENDAR
VERSION:2.0
PRODID:-//Bacon Free Library - ECPv6.15.17.1//NONSGML v1.0//EN
CALSCALE:GREGORIAN
METHOD:PUBLISH
X-WR-CALNAME:Bacon Free Library
X-ORIGINAL-URL:https://baconfreelibrary.org
X-WR-CALDESC:Events for Bacon Free Library
REFRESH-INTERVAL;VALUE=DURATION:PT1H
X-Robots-Tag:noindex
X-PUBLISHED-TTL:PT1H
BEGIN:VTIMEZONE
TZID:America/New_York
BEGIN:DAYLIGHT
TZOFFSETFROM:-0500
TZOFFSETTO:-0400
TZNAME:EDT
DTSTART:20250309T070000
END:DAYLIGHT
BEGIN:STANDARD
TZOFFSETFROM:-0400
TZOFFSETTO:-0500
TZNAME:EST
DTSTART:20251102T060000
END:STANDARD
BEGIN:DAYLIGHT
TZOFFSETFROM:-0500
TZOFFSETTO:-0400
TZNAME:EDT
DTSTART:20260308T070000
END:DAYLIGHT
BEGIN:STANDARD
TZOFFSETFROM:-0400
TZOFFSETTO:-0500
TZNAME:EST
DTSTART:20261101T060000
END:STANDARD
BEGIN:DAYLIGHT
TZOFFSETFROM:-0500
TZOFFSETTO:-0400
TZNAME:EDT
DTSTART:20270314T070000
END:DAYLIGHT
BEGIN:STANDARD
TZOFFSETFROM:-0400
TZOFFSETTO:-0500
TZNAME:EST
DTSTART:20271107T060000
END:STANDARD
END:VTIMEZONE
BEGIN:VEVENT
DTSTART;TZID=America/New_York:20260421T100000
DTEND;TZID=America/New_York:20260421T103000
DTSTAMP:20260419T091357
CREATED:20260203T192355Z
LAST-MODIFIED:20260203T192427Z
UID:54110-1776765600-1776767400@baconfreelibrary.org
SUMMARY:All Together: Preschool Storytime
DESCRIPTION:Join us on Mondays and Tuesdays for stories and songs! Outdoors\, weather permitting. Bring along a blanket to get comfy. \nNote: if the weather is wet or below 55 degrees\, we’ll move this storytime indoors. \nThe historic nature of our building limits accessibility. This program is also offered in an accessible location at the Morse Institute Library (click here for dates\, times\, and more information).
URL:https://baconfreelibrary.org/event/stspring26/2026-04-21/
LOCATION:Bacon Free Library\, 58 Eliot Street\, Natick\, MA\, 01760\, United States
CATEGORIES:Featured,Kids Events
ATTACH;FMTTYPE=image/jpeg:https://baconfreelibrary.org/wp-content/uploads/2023/05/animalsreading.jpg
GEO:42.285064;-71.346109
X-APPLE-STRUCTURED-LOCATION;VALUE=URI;X-ADDRESS=Bacon Free Library 58 Eliot Street Natick MA 01760 United States;X-APPLE-RADIUS=500;X-TITLE=58 Eliot Street:geo:-71.346109,42.285064
END:VEVENT
BEGIN:VEVENT
DTSTART;TZID=America/New_York:20260422T100000
DTEND;TZID=America/New_York:20260422T103000
DTSTAMP:20260419T091357
CREATED:20250324T204946Z
LAST-MODIFIED:20260406T192044Z
UID:54052-1776852000-1776853800@baconfreelibrary.org
SUMMARY:Lapsit Storytime
DESCRIPTION:Stories\, bounces\, and songs for babies 0-24 months and their grownups! \nThe historic nature of our building limits accessibility. This program is also offered in an accessible location at the Morse Institute Library (click here for dates\, times\, and more information).
URL:https://baconfreelibrary.org/event/lapsit625/2026-04-22/
LOCATION:Bacon Free Library\, 58 Eliot Street\, Natick\, MA\, 01760\, United States
CATEGORIES:Featured,Kids Events
ATTACH;FMTTYPE=image/jpeg:https://baconfreelibrary.org/wp-content/uploads/2022/10/Baby-Time-for-website-e1670943351162.jpg
GEO:42.285064;-71.346109
X-APPLE-STRUCTURED-LOCATION;VALUE=URI;X-ADDRESS=Bacon Free Library 58 Eliot Street Natick MA 01760 United States;X-APPLE-RADIUS=500;X-TITLE=58 Eliot Street:geo:-71.346109,42.285064
END:VEVENT
BEGIN:VEVENT
DTSTART;TZID=America/New_York:20260427T100000
DTEND;TZID=America/New_York:20260427T103000
DTSTAMP:20260419T091357
CREATED:20260203T192355Z
LAST-MODIFIED:20260203T192428Z
UID:54111-1777284000-1777285800@baconfreelibrary.org
SUMMARY:All Together: Preschool Storytime
DESCRIPTION:Join us on Mondays and Tuesdays for stories and songs! Outdoors\, weather permitting. Bring along a blanket to get comfy. \nNote: if the weather is wet or below 55 degrees\, we’ll move this storytime indoors. \nThe historic nature of our building limits accessibility. This program is also offered in an accessible location at the Morse Institute Library (click here for dates\, times\, and more information).
URL:https://baconfreelibrary.org/event/stspring26/2026-04-27/
LOCATION:Bacon Free Library\, 58 Eliot Street\, Natick\, MA\, 01760\, United States
CATEGORIES:Featured,Kids Events
ATTACH;FMTTYPE=image/jpeg:https://baconfreelibrary.org/wp-content/uploads/2023/05/animalsreading.jpg
GEO:42.285064;-71.346109
X-APPLE-STRUCTURED-LOCATION;VALUE=URI;X-ADDRESS=Bacon Free Library 58 Eliot Street Natick MA 01760 United States;X-APPLE-RADIUS=500;X-TITLE=58 Eliot Street:geo:-71.346109,42.285064
END:VEVENT
BEGIN:VEVENT
DTSTART;TZID=America/New_York:20260428T100000
DTEND;TZID=America/New_York:20260428T103000
DTSTAMP:20260419T091357
CREATED:20260203T192355Z
LAST-MODIFIED:20260203T192428Z
UID:54112-1777370400-1777372200@baconfreelibrary.org
SUMMARY:All Together: Preschool Storytime
DESCRIPTION:Join us on Mondays and Tuesdays for stories and songs! Outdoors\, weather permitting. Bring along a blanket to get comfy. \nNote: if the weather is wet or below 55 degrees\, we’ll move this storytime indoors. \nThe historic nature of our building limits accessibility. This program is also offered in an accessible location at the Morse Institute Library (click here for dates\, times\, and more information).
URL:https://baconfreelibrary.org/event/stspring26/2026-04-28/
LOCATION:Bacon Free Library\, 58 Eliot Street\, Natick\, MA\, 01760\, United States
CATEGORIES:Featured,Kids Events
ATTACH;FMTTYPE=image/jpeg:https://baconfreelibrary.org/wp-content/uploads/2023/05/animalsreading.jpg
GEO:42.285064;-71.346109
X-APPLE-STRUCTURED-LOCATION;VALUE=URI;X-ADDRESS=Bacon Free Library 58 Eliot Street Natick MA 01760 United States;X-APPLE-RADIUS=500;X-TITLE=58 Eliot Street:geo:-71.346109,42.285064
END:VEVENT
BEGIN:VEVENT
DTSTART;TZID=America/New_York:20260429T100000
DTEND;TZID=America/New_York:20260429T103000
DTSTAMP:20260419T091357
CREATED:20250324T204946Z
LAST-MODIFIED:20260406T192045Z
UID:54053-1777456800-1777458600@baconfreelibrary.org
SUMMARY:Lapsit Storytime
DESCRIPTION:Stories\, bounces\, and songs for babies 0-24 months and their grownups! \nThe historic nature of our building limits accessibility. This program is also offered in an accessible location at the Morse Institute Library (click here for dates\, times\, and more information).
URL:https://baconfreelibrary.org/event/lapsit625/2026-04-29/
LOCATION:Bacon Free Library\, 58 Eliot Street\, Natick\, MA\, 01760\, United States
CATEGORIES:Featured,Kids Events
ATTACH;FMTTYPE=image/jpeg:https://baconfreelibrary.org/wp-content/uploads/2022/10/Baby-Time-for-website-e1670943351162.jpg
GEO:42.285064;-71.346109
X-APPLE-STRUCTURED-LOCATION;VALUE=URI;X-ADDRESS=Bacon Free Library 58 Eliot Street Natick MA 01760 United States;X-APPLE-RADIUS=500;X-TITLE=58 Eliot Street:geo:-71.346109,42.285064
END:VEVENT
END:VCALENDAR