BEGIN:VCALENDAR
VERSION:2.0
PRODID:-//Bacon Free Library - ECPv6.15.17.1//NONSGML v1.0//EN
CALSCALE:GREGORIAN
METHOD:PUBLISH
X-ORIGINAL-URL:https://baconfreelibrary.org
X-WR-CALDESC:Events for Bacon Free Library
REFRESH-INTERVAL;VALUE=DURATION:PT1H
X-Robots-Tag:noindex
X-PUBLISHED-TTL:PT1H
BEGIN:VTIMEZONE
TZID:America/New_York
BEGIN:DAYLIGHT
TZOFFSETFROM:-0500
TZOFFSETTO:-0400
TZNAME:EDT
DTSTART:20220313T070000
END:DAYLIGHT
BEGIN:STANDARD
TZOFFSETFROM:-0400
TZOFFSETTO:-0500
TZNAME:EST
DTSTART:20221106T060000
END:STANDARD
BEGIN:DAYLIGHT
TZOFFSETFROM:-0500
TZOFFSETTO:-0400
TZNAME:EDT
DTSTART:20230312T070000
END:DAYLIGHT
BEGIN:STANDARD
TZOFFSETFROM:-0400
TZOFFSETTO:-0500
TZNAME:EST
DTSTART:20231105T060000
END:STANDARD
BEGIN:DAYLIGHT
TZOFFSETFROM:-0500
TZOFFSETTO:-0400
TZNAME:EDT
DTSTART:20240310T070000
END:DAYLIGHT
BEGIN:STANDARD
TZOFFSETFROM:-0400
TZOFFSETTO:-0500
TZNAME:EST
DTSTART:20241103T060000
END:STANDARD
END:VTIMEZONE
BEGIN:VEVENT
DTSTART;TZID=America/New_York:20230107T110000
DTEND;TZID=America/New_York:20230107T120000
DTSTAMP:20260423T044109
CREATED:20221118T155824Z
LAST-MODIFIED:20221222T162551Z
UID:40179-1673089200-1673092800@baconfreelibrary.org
SUMMARY:Weaving Natural Fibers with Farmer Emma
DESCRIPTION:Join Farmer Emma from The Natick Community Organic Farm and learn about how to identify\, collect\, and weave with natural fibers. Emma will talk about which grasses\, stalks\, and leaves are found in the area that are best to dry and weave.  \nAlso\, you will start a weaving project of your own! We will include all materials needed for this workshop\, and it is recommended for learners aged 10 and up. \nSponsored by the Friends of the Bacon Free Library. \nRegistration is required; this workshop is limited to 8 participants. \nThis program is full\, if you would like you may join the waiting list by filling out this form: \n\n\n                \n                        \n                            Event Waiting List\n                             \n                        \n                        Name(Required)\n                            \n                            \n                                                    \n                                                    First\n                                                \n                            \n                            \n                                                    \n                                                    Last\n                                                \n                            \n                        Email(Required)\n                            \n                        \n          \n            \n            \n            \n            \n            \n            \n            \n            \n            \n            \n            \n            \n            \n        \n                        Δ \n                        \n \n 
URL:https://baconfreelibrary.org/event/weavingnaturalfibers/
LOCATION:Bacon Free Library\, 58 Eliot Street\, Natick\, MA\, 01760\, United States
CATEGORIES:Adult Events,Featured
ATTACH;FMTTYPE=image/jpeg:https://baconfreelibrary.org/wp-content/uploads/2022/11/weaving-with-natural-fibers-scaled-e1669749075874.jpg
GEO:42.285064;-71.346109
X-APPLE-STRUCTURED-LOCATION;VALUE=URI;X-ADDRESS=Bacon Free Library 58 Eliot Street Natick MA 01760 United States;X-APPLE-RADIUS=500;X-TITLE=58 Eliot Street:geo:-71.346109,42.285064
END:VEVENT
END:VCALENDAR