BEGIN:VCALENDAR
VERSION:2.0
PRODID:-//Bacon Free Library - ECPv6.15.17.1//NONSGML v1.0//EN
CALSCALE:GREGORIAN
METHOD:PUBLISH
X-ORIGINAL-URL:https://baconfreelibrary.org
X-WR-CALDESC:Events for Bacon Free Library
REFRESH-INTERVAL;VALUE=DURATION:PT1H
X-Robots-Tag:noindex
X-PUBLISHED-TTL:PT1H
BEGIN:VTIMEZONE
TZID:America/New_York
BEGIN:DAYLIGHT
TZOFFSETFROM:-0500
TZOFFSETTO:-0400
TZNAME:EDT
DTSTART:20250309T070000
END:DAYLIGHT
BEGIN:STANDARD
TZOFFSETFROM:-0400
TZOFFSETTO:-0500
TZNAME:EST
DTSTART:20251102T060000
END:STANDARD
BEGIN:DAYLIGHT
TZOFFSETFROM:-0500
TZOFFSETTO:-0400
TZNAME:EDT
DTSTART:20260308T070000
END:DAYLIGHT
BEGIN:STANDARD
TZOFFSETFROM:-0400
TZOFFSETTO:-0500
TZNAME:EST
DTSTART:20261101T060000
END:STANDARD
BEGIN:DAYLIGHT
TZOFFSETFROM:-0500
TZOFFSETTO:-0400
TZNAME:EDT
DTSTART:20270314T070000
END:DAYLIGHT
BEGIN:STANDARD
TZOFFSETFROM:-0400
TZOFFSETTO:-0500
TZNAME:EST
DTSTART:20271107T060000
END:STANDARD
END:VTIMEZONE
BEGIN:VEVENT
DTSTART;TZID=America/New_York:20260427T100000
DTEND;TZID=America/New_York:20260427T103000
DTSTAMP:20260423T051208
CREATED:20260203T192355Z
LAST-MODIFIED:20260203T192428Z
UID:54111-1777284000-1777285800@baconfreelibrary.org
SUMMARY:All Together: Preschool Storytime
DESCRIPTION:Join us on Mondays and Tuesdays for stories and songs! Outdoors\, weather permitting. Bring along a blanket to get comfy. \nNote: if the weather is wet or below 55 degrees\, we’ll move this storytime indoors. \nThe historic nature of our building limits accessibility. This program is also offered in an accessible location at the Morse Institute Library (click here for dates\, times\, and more information).
URL:https://baconfreelibrary.org/event/stspring26/2026-04-27/
LOCATION:Bacon Free Library\, 58 Eliot Street\, Natick\, MA\, 01760\, United States
CATEGORIES:Featured,Kids Events
ATTACH;FMTTYPE=image/jpeg:https://baconfreelibrary.org/wp-content/uploads/2023/05/animalsreading.jpg
GEO:42.285064;-71.346109
X-APPLE-STRUCTURED-LOCATION;VALUE=URI;X-ADDRESS=Bacon Free Library 58 Eliot Street Natick MA 01760 United States;X-APPLE-RADIUS=500;X-TITLE=58 Eliot Street:geo:-71.346109,42.285064
END:VEVENT
BEGIN:VEVENT
DTSTART;TZID=America/New_York:20260428T100000
DTEND;TZID=America/New_York:20260428T103000
DTSTAMP:20260423T051208
CREATED:20260203T192355Z
LAST-MODIFIED:20260203T192428Z
UID:54112-1777370400-1777372200@baconfreelibrary.org
SUMMARY:All Together: Preschool Storytime
DESCRIPTION:Join us on Mondays and Tuesdays for stories and songs! Outdoors\, weather permitting. Bring along a blanket to get comfy. \nNote: if the weather is wet or below 55 degrees\, we’ll move this storytime indoors. \nThe historic nature of our building limits accessibility. This program is also offered in an accessible location at the Morse Institute Library (click here for dates\, times\, and more information).
URL:https://baconfreelibrary.org/event/stspring26/2026-04-28/
LOCATION:Bacon Free Library\, 58 Eliot Street\, Natick\, MA\, 01760\, United States
CATEGORIES:Featured,Kids Events
ATTACH;FMTTYPE=image/jpeg:https://baconfreelibrary.org/wp-content/uploads/2023/05/animalsreading.jpg
GEO:42.285064;-71.346109
X-APPLE-STRUCTURED-LOCATION;VALUE=URI;X-ADDRESS=Bacon Free Library 58 Eliot Street Natick MA 01760 United States;X-APPLE-RADIUS=500;X-TITLE=58 Eliot Street:geo:-71.346109,42.285064
END:VEVENT
BEGIN:VEVENT
DTSTART;TZID=America/New_York:20260504T100000
DTEND;TZID=America/New_York:20260504T103000
DTSTAMP:20260423T051208
CREATED:20260203T192355Z
LAST-MODIFIED:20260203T192429Z
UID:54113-1777888800-1777890600@baconfreelibrary.org
SUMMARY:All Together: Preschool Storytime
DESCRIPTION:Join us on Mondays and Tuesdays for stories and songs! Outdoors\, weather permitting. Bring along a blanket to get comfy. \nNote: if the weather is wet or below 55 degrees\, we’ll move this storytime indoors. \nThe historic nature of our building limits accessibility. This program is also offered in an accessible location at the Morse Institute Library (click here for dates\, times\, and more information).
URL:https://baconfreelibrary.org/event/stspring26/2026-05-04/
LOCATION:Bacon Free Library\, 58 Eliot Street\, Natick\, MA\, 01760\, United States
CATEGORIES:Featured,Kids Events
ATTACH;FMTTYPE=image/jpeg:https://baconfreelibrary.org/wp-content/uploads/2023/05/animalsreading.jpg
GEO:42.285064;-71.346109
X-APPLE-STRUCTURED-LOCATION;VALUE=URI;X-ADDRESS=Bacon Free Library 58 Eliot Street Natick MA 01760 United States;X-APPLE-RADIUS=500;X-TITLE=58 Eliot Street:geo:-71.346109,42.285064
END:VEVENT
BEGIN:VEVENT
DTSTART;TZID=America/New_York:20260505T100000
DTEND;TZID=America/New_York:20260505T103000
DTSTAMP:20260423T051208
CREATED:20260203T192355Z
LAST-MODIFIED:20260203T192429Z
UID:54114-1777975200-1777977000@baconfreelibrary.org
SUMMARY:All Together: Preschool Storytime
DESCRIPTION:Join us on Mondays and Tuesdays for stories and songs! Outdoors\, weather permitting. Bring along a blanket to get comfy. \nNote: if the weather is wet or below 55 degrees\, we’ll move this storytime indoors. \nThe historic nature of our building limits accessibility. This program is also offered in an accessible location at the Morse Institute Library (click here for dates\, times\, and more information).
URL:https://baconfreelibrary.org/event/stspring26/2026-05-05/
LOCATION:Bacon Free Library\, 58 Eliot Street\, Natick\, MA\, 01760\, United States
CATEGORIES:Featured,Kids Events
ATTACH;FMTTYPE=image/jpeg:https://baconfreelibrary.org/wp-content/uploads/2023/05/animalsreading.jpg
GEO:42.285064;-71.346109
X-APPLE-STRUCTURED-LOCATION;VALUE=URI;X-ADDRESS=Bacon Free Library 58 Eliot Street Natick MA 01760 United States;X-APPLE-RADIUS=500;X-TITLE=58 Eliot Street:geo:-71.346109,42.285064
END:VEVENT
BEGIN:VEVENT
DTSTART;TZID=America/New_York:20260511T100000
DTEND;TZID=America/New_York:20260511T103000
DTSTAMP:20260423T051208
CREATED:20260203T192355Z
LAST-MODIFIED:20260203T192430Z
UID:54115-1778493600-1778495400@baconfreelibrary.org
SUMMARY:All Together: Preschool Storytime
DESCRIPTION:Join us on Mondays and Tuesdays for stories and songs! Outdoors\, weather permitting. Bring along a blanket to get comfy. \nNote: if the weather is wet or below 55 degrees\, we’ll move this storytime indoors. \nThe historic nature of our building limits accessibility. This program is also offered in an accessible location at the Morse Institute Library (click here for dates\, times\, and more information).
URL:https://baconfreelibrary.org/event/stspring26/2026-05-11/
LOCATION:Bacon Free Library\, 58 Eliot Street\, Natick\, MA\, 01760\, United States
CATEGORIES:Featured,Kids Events
ATTACH;FMTTYPE=image/jpeg:https://baconfreelibrary.org/wp-content/uploads/2023/05/animalsreading.jpg
GEO:42.285064;-71.346109
X-APPLE-STRUCTURED-LOCATION;VALUE=URI;X-ADDRESS=Bacon Free Library 58 Eliot Street Natick MA 01760 United States;X-APPLE-RADIUS=500;X-TITLE=58 Eliot Street:geo:-71.346109,42.285064
END:VEVENT
BEGIN:VEVENT
DTSTART;TZID=America/New_York:20260512T100000
DTEND;TZID=America/New_York:20260512T103000
DTSTAMP:20260423T051208
CREATED:20260203T192355Z
LAST-MODIFIED:20260203T192431Z
UID:54116-1778580000-1778581800@baconfreelibrary.org
SUMMARY:All Together: Preschool Storytime
DESCRIPTION:Join us on Mondays and Tuesdays for stories and songs! Outdoors\, weather permitting. Bring along a blanket to get comfy. \nNote: if the weather is wet or below 55 degrees\, we’ll move this storytime indoors. \nThe historic nature of our building limits accessibility. This program is also offered in an accessible location at the Morse Institute Library (click here for dates\, times\, and more information).
URL:https://baconfreelibrary.org/event/stspring26/2026-05-12/
LOCATION:Bacon Free Library\, 58 Eliot Street\, Natick\, MA\, 01760\, United States
CATEGORIES:Featured,Kids Events
ATTACH;FMTTYPE=image/jpeg:https://baconfreelibrary.org/wp-content/uploads/2023/05/animalsreading.jpg
GEO:42.285064;-71.346109
X-APPLE-STRUCTURED-LOCATION;VALUE=URI;X-ADDRESS=Bacon Free Library 58 Eliot Street Natick MA 01760 United States;X-APPLE-RADIUS=500;X-TITLE=58 Eliot Street:geo:-71.346109,42.285064
END:VEVENT
BEGIN:VEVENT
DTSTART;TZID=America/New_York:20260518T100000
DTEND;TZID=America/New_York:20260518T103000
DTSTAMP:20260423T051208
CREATED:20260203T192355Z
LAST-MODIFIED:20260203T192436Z
UID:54118-1779098400-1779100200@baconfreelibrary.org
SUMMARY:All Together: Preschool Storytime
DESCRIPTION:Join us on Mondays and Tuesdays for stories and songs! Outdoors\, weather permitting. Bring along a blanket to get comfy. \nNote: if the weather is wet or below 55 degrees\, we’ll move this storytime indoors. \nThe historic nature of our building limits accessibility. This program is also offered in an accessible location at the Morse Institute Library (click here for dates\, times\, and more information).
URL:https://baconfreelibrary.org/event/stspring26/2026-05-18/
LOCATION:Bacon Free Library\, 58 Eliot Street\, Natick\, MA\, 01760\, United States
CATEGORIES:Featured,Kids Events
ATTACH;FMTTYPE=image/jpeg:https://baconfreelibrary.org/wp-content/uploads/2023/05/animalsreading.jpg
GEO:42.285064;-71.346109
X-APPLE-STRUCTURED-LOCATION;VALUE=URI;X-ADDRESS=Bacon Free Library 58 Eliot Street Natick MA 01760 United States;X-APPLE-RADIUS=500;X-TITLE=58 Eliot Street:geo:-71.346109,42.285064
END:VEVENT
BEGIN:VEVENT
DTSTART;TZID=America/New_York:20260519T100000
DTEND;TZID=America/New_York:20260519T103000
DTSTAMP:20260423T051208
CREATED:20260203T192355Z
LAST-MODIFIED:20260203T192437Z
UID:54119-1779184800-1779186600@baconfreelibrary.org
SUMMARY:All Together: Preschool Storytime
DESCRIPTION:Join us on Mondays and Tuesdays for stories and songs! Outdoors\, weather permitting. Bring along a blanket to get comfy. \nNote: if the weather is wet or below 55 degrees\, we’ll move this storytime indoors. \nThe historic nature of our building limits accessibility. This program is also offered in an accessible location at the Morse Institute Library (click here for dates\, times\, and more information).
URL:https://baconfreelibrary.org/event/stspring26/2026-05-19/
LOCATION:Bacon Free Library\, 58 Eliot Street\, Natick\, MA\, 01760\, United States
CATEGORIES:Featured,Kids Events
ATTACH;FMTTYPE=image/jpeg:https://baconfreelibrary.org/wp-content/uploads/2023/05/animalsreading.jpg
GEO:42.285064;-71.346109
X-APPLE-STRUCTURED-LOCATION;VALUE=URI;X-ADDRESS=Bacon Free Library 58 Eliot Street Natick MA 01760 United States;X-APPLE-RADIUS=500;X-TITLE=58 Eliot Street:geo:-71.346109,42.285064
END:VEVENT
BEGIN:VEVENT
DTSTART;TZID=America/New_York:20260526T100000
DTEND;TZID=America/New_York:20260526T103000
DTSTAMP:20260423T051208
CREATED:20260203T192355Z
LAST-MODIFIED:20260203T192438Z
UID:54120-1779789600-1779791400@baconfreelibrary.org
SUMMARY:All Together: Preschool Storytime
DESCRIPTION:Join us on Mondays and Tuesdays for stories and songs! Outdoors\, weather permitting. Bring along a blanket to get comfy. \nNote: if the weather is wet or below 55 degrees\, we’ll move this storytime indoors. \nThe historic nature of our building limits accessibility. This program is also offered in an accessible location at the Morse Institute Library (click here for dates\, times\, and more information).
URL:https://baconfreelibrary.org/event/stspring26/2026-05-26/
LOCATION:Bacon Free Library\, 58 Eliot Street\, Natick\, MA\, 01760\, United States
CATEGORIES:Featured,Kids Events
ATTACH;FMTTYPE=image/jpeg:https://baconfreelibrary.org/wp-content/uploads/2023/05/animalsreading.jpg
GEO:42.285064;-71.346109
X-APPLE-STRUCTURED-LOCATION;VALUE=URI;X-ADDRESS=Bacon Free Library 58 Eliot Street Natick MA 01760 United States;X-APPLE-RADIUS=500;X-TITLE=58 Eliot Street:geo:-71.346109,42.285064
END:VEVENT
BEGIN:VEVENT
DTSTART;TZID=America/New_York:20260601T100000
DTEND;TZID=America/New_York:20260601T103000
DTSTAMP:20260423T051208
CREATED:20260203T192355Z
LAST-MODIFIED:20260203T192439Z
UID:54121-1780308000-1780309800@baconfreelibrary.org
SUMMARY:All Together: Preschool Storytime
DESCRIPTION:Join us on Mondays and Tuesdays for stories and songs! Outdoors\, weather permitting. Bring along a blanket to get comfy. \nNote: if the weather is wet or below 55 degrees\, we’ll move this storytime indoors. \nThe historic nature of our building limits accessibility. This program is also offered in an accessible location at the Morse Institute Library (click here for dates\, times\, and more information).
URL:https://baconfreelibrary.org/event/stspring26/2026-06-01/
LOCATION:Bacon Free Library\, 58 Eliot Street\, Natick\, MA\, 01760\, United States
CATEGORIES:Featured,Kids Events
ATTACH;FMTTYPE=image/jpeg:https://baconfreelibrary.org/wp-content/uploads/2023/05/animalsreading.jpg
GEO:42.285064;-71.346109
X-APPLE-STRUCTURED-LOCATION;VALUE=URI;X-ADDRESS=Bacon Free Library 58 Eliot Street Natick MA 01760 United States;X-APPLE-RADIUS=500;X-TITLE=58 Eliot Street:geo:-71.346109,42.285064
END:VEVENT
BEGIN:VEVENT
DTSTART;TZID=America/New_York:20260602T100000
DTEND;TZID=America/New_York:20260602T103000
DTSTAMP:20260423T051208
CREATED:20260203T192355Z
LAST-MODIFIED:20260203T192439Z
UID:54122-1780394400-1780396200@baconfreelibrary.org
SUMMARY:All Together: Preschool Storytime
DESCRIPTION:Join us on Mondays and Tuesdays for stories and songs! Outdoors\, weather permitting. Bring along a blanket to get comfy. \nNote: if the weather is wet or below 55 degrees\, we’ll move this storytime indoors. \nThe historic nature of our building limits accessibility. This program is also offered in an accessible location at the Morse Institute Library (click here for dates\, times\, and more information).
URL:https://baconfreelibrary.org/event/stspring26/2026-06-02/
LOCATION:Bacon Free Library\, 58 Eliot Street\, Natick\, MA\, 01760\, United States
CATEGORIES:Featured,Kids Events
ATTACH;FMTTYPE=image/jpeg:https://baconfreelibrary.org/wp-content/uploads/2023/05/animalsreading.jpg
GEO:42.285064;-71.346109
X-APPLE-STRUCTURED-LOCATION;VALUE=URI;X-ADDRESS=Bacon Free Library 58 Eliot Street Natick MA 01760 United States;X-APPLE-RADIUS=500;X-TITLE=58 Eliot Street:geo:-71.346109,42.285064
END:VEVENT
BEGIN:VEVENT
DTSTART;TZID=America/New_York:20260608T100000
DTEND;TZID=America/New_York:20260608T103000
DTSTAMP:20260423T051208
CREATED:20260203T192355Z
LAST-MODIFIED:20260203T192440Z
UID:54123-1780912800-1780914600@baconfreelibrary.org
SUMMARY:All Together: Preschool Storytime
DESCRIPTION:Join us on Mondays and Tuesdays for stories and songs! Outdoors\, weather permitting. Bring along a blanket to get comfy. \nNote: if the weather is wet or below 55 degrees\, we’ll move this storytime indoors. \nThe historic nature of our building limits accessibility. This program is also offered in an accessible location at the Morse Institute Library (click here for dates\, times\, and more information).
URL:https://baconfreelibrary.org/event/stspring26/2026-06-08/
LOCATION:Bacon Free Library\, 58 Eliot Street\, Natick\, MA\, 01760\, United States
CATEGORIES:Featured,Kids Events
ATTACH;FMTTYPE=image/jpeg:https://baconfreelibrary.org/wp-content/uploads/2023/05/animalsreading.jpg
GEO:42.285064;-71.346109
X-APPLE-STRUCTURED-LOCATION;VALUE=URI;X-ADDRESS=Bacon Free Library 58 Eliot Street Natick MA 01760 United States;X-APPLE-RADIUS=500;X-TITLE=58 Eliot Street:geo:-71.346109,42.285064
END:VEVENT
BEGIN:VEVENT
DTSTART;TZID=America/New_York:20260609T100000
DTEND;TZID=America/New_York:20260609T103000
DTSTAMP:20260423T051208
CREATED:20260203T192355Z
LAST-MODIFIED:20260203T192440Z
UID:54124-1780999200-1781001000@baconfreelibrary.org
SUMMARY:All Together: Preschool Storytime
DESCRIPTION:Join us on Mondays and Tuesdays for stories and songs! Outdoors\, weather permitting. Bring along a blanket to get comfy. \nNote: if the weather is wet or below 55 degrees\, we’ll move this storytime indoors. \nThe historic nature of our building limits accessibility. This program is also offered in an accessible location at the Morse Institute Library (click here for dates\, times\, and more information).
URL:https://baconfreelibrary.org/event/stspring26/2026-06-09/
LOCATION:Bacon Free Library\, 58 Eliot Street\, Natick\, MA\, 01760\, United States
CATEGORIES:Featured,Kids Events
ATTACH;FMTTYPE=image/jpeg:https://baconfreelibrary.org/wp-content/uploads/2023/05/animalsreading.jpg
GEO:42.285064;-71.346109
X-APPLE-STRUCTURED-LOCATION;VALUE=URI;X-ADDRESS=Bacon Free Library 58 Eliot Street Natick MA 01760 United States;X-APPLE-RADIUS=500;X-TITLE=58 Eliot Street:geo:-71.346109,42.285064
END:VEVENT
BEGIN:VEVENT
DTSTART;TZID=America/New_York:20260615T100000
DTEND;TZID=America/New_York:20260615T103000
DTSTAMP:20260423T051208
CREATED:20260203T192355Z
LAST-MODIFIED:20260203T192441Z
UID:54125-1781517600-1781519400@baconfreelibrary.org
SUMMARY:All Together: Preschool Storytime
DESCRIPTION:Join us on Mondays and Tuesdays for stories and songs! Outdoors\, weather permitting. Bring along a blanket to get comfy. \nNote: if the weather is wet or below 55 degrees\, we’ll move this storytime indoors. \nThe historic nature of our building limits accessibility. This program is also offered in an accessible location at the Morse Institute Library (click here for dates\, times\, and more information).
URL:https://baconfreelibrary.org/event/stspring26/2026-06-15/
LOCATION:Bacon Free Library\, 58 Eliot Street\, Natick\, MA\, 01760\, United States
CATEGORIES:Featured,Kids Events
ATTACH;FMTTYPE=image/jpeg:https://baconfreelibrary.org/wp-content/uploads/2023/05/animalsreading.jpg
GEO:42.285064;-71.346109
X-APPLE-STRUCTURED-LOCATION;VALUE=URI;X-ADDRESS=Bacon Free Library 58 Eliot Street Natick MA 01760 United States;X-APPLE-RADIUS=500;X-TITLE=58 Eliot Street:geo:-71.346109,42.285064
END:VEVENT
BEGIN:VEVENT
DTSTART;TZID=America/New_York:20260616T100000
DTEND;TZID=America/New_York:20260616T103000
DTSTAMP:20260423T051208
CREATED:20260203T192355Z
LAST-MODIFIED:20260203T192442Z
UID:54126-1781604000-1781605800@baconfreelibrary.org
SUMMARY:All Together: Preschool Storytime
DESCRIPTION:Join us on Mondays and Tuesdays for stories and songs! Outdoors\, weather permitting. Bring along a blanket to get comfy. \nNote: if the weather is wet or below 55 degrees\, we’ll move this storytime indoors. \nThe historic nature of our building limits accessibility. This program is also offered in an accessible location at the Morse Institute Library (click here for dates\, times\, and more information).
URL:https://baconfreelibrary.org/event/stspring26/2026-06-16/
LOCATION:Bacon Free Library\, 58 Eliot Street\, Natick\, MA\, 01760\, United States
CATEGORIES:Featured,Kids Events
ATTACH;FMTTYPE=image/jpeg:https://baconfreelibrary.org/wp-content/uploads/2023/05/animalsreading.jpg
GEO:42.285064;-71.346109
X-APPLE-STRUCTURED-LOCATION;VALUE=URI;X-ADDRESS=Bacon Free Library 58 Eliot Street Natick MA 01760 United States;X-APPLE-RADIUS=500;X-TITLE=58 Eliot Street:geo:-71.346109,42.285064
END:VEVENT
BEGIN:VEVENT
DTSTART;TZID=America/New_York:20260622T100000
DTEND;TZID=America/New_York:20260622T103000
DTSTAMP:20260423T051208
CREATED:20260203T192355Z
LAST-MODIFIED:20260203T192442Z
UID:54127-1782122400-1782124200@baconfreelibrary.org
SUMMARY:All Together: Preschool Storytime
DESCRIPTION:Join us on Mondays and Tuesdays for stories and songs! Outdoors\, weather permitting. Bring along a blanket to get comfy. \nNote: if the weather is wet or below 55 degrees\, we’ll move this storytime indoors. \nThe historic nature of our building limits accessibility. This program is also offered in an accessible location at the Morse Institute Library (click here for dates\, times\, and more information).
URL:https://baconfreelibrary.org/event/stspring26/2026-06-22/
LOCATION:Bacon Free Library\, 58 Eliot Street\, Natick\, MA\, 01760\, United States
CATEGORIES:Featured,Kids Events
ATTACH;FMTTYPE=image/jpeg:https://baconfreelibrary.org/wp-content/uploads/2023/05/animalsreading.jpg
GEO:42.285064;-71.346109
X-APPLE-STRUCTURED-LOCATION;VALUE=URI;X-ADDRESS=Bacon Free Library 58 Eliot Street Natick MA 01760 United States;X-APPLE-RADIUS=500;X-TITLE=58 Eliot Street:geo:-71.346109,42.285064
END:VEVENT
BEGIN:VEVENT
DTSTART;TZID=America/New_York:20260623T100000
DTEND;TZID=America/New_York:20260623T103000
DTSTAMP:20260423T051208
CREATED:20260203T192355Z
LAST-MODIFIED:20260203T192445Z
UID:54128-1782208800-1782210600@baconfreelibrary.org
SUMMARY:All Together: Preschool Storytime
DESCRIPTION:Join us on Mondays and Tuesdays for stories and songs! Outdoors\, weather permitting. Bring along a blanket to get comfy. \nNote: if the weather is wet or below 55 degrees\, we’ll move this storytime indoors. \nThe historic nature of our building limits accessibility. This program is also offered in an accessible location at the Morse Institute Library (click here for dates\, times\, and more information).
URL:https://baconfreelibrary.org/event/stspring26/2026-06-23/
LOCATION:Bacon Free Library\, 58 Eliot Street\, Natick\, MA\, 01760\, United States
CATEGORIES:Featured,Kids Events
ATTACH;FMTTYPE=image/jpeg:https://baconfreelibrary.org/wp-content/uploads/2023/05/animalsreading.jpg
GEO:42.285064;-71.346109
X-APPLE-STRUCTURED-LOCATION;VALUE=URI;X-ADDRESS=Bacon Free Library 58 Eliot Street Natick MA 01760 United States;X-APPLE-RADIUS=500;X-TITLE=58 Eliot Street:geo:-71.346109,42.285064
END:VEVENT
BEGIN:VEVENT
DTSTART;TZID=America/New_York:20260629T100000
DTEND;TZID=America/New_York:20260629T103000
DTSTAMP:20260423T051208
CREATED:20260203T192355Z
LAST-MODIFIED:20260203T192445Z
UID:54129-1782727200-1782729000@baconfreelibrary.org
SUMMARY:All Together: Preschool Storytime
DESCRIPTION:Join us on Mondays and Tuesdays for stories and songs! Outdoors\, weather permitting. Bring along a blanket to get comfy. \nNote: if the weather is wet or below 55 degrees\, we’ll move this storytime indoors. \nThe historic nature of our building limits accessibility. This program is also offered in an accessible location at the Morse Institute Library (click here for dates\, times\, and more information).
URL:https://baconfreelibrary.org/event/stspring26/2026-06-29/
LOCATION:Bacon Free Library\, 58 Eliot Street\, Natick\, MA\, 01760\, United States
CATEGORIES:Featured,Kids Events
ATTACH;FMTTYPE=image/jpeg:https://baconfreelibrary.org/wp-content/uploads/2023/05/animalsreading.jpg
GEO:42.285064;-71.346109
X-APPLE-STRUCTURED-LOCATION;VALUE=URI;X-ADDRESS=Bacon Free Library 58 Eliot Street Natick MA 01760 United States;X-APPLE-RADIUS=500;X-TITLE=58 Eliot Street:geo:-71.346109,42.285064
END:VEVENT
BEGIN:VEVENT
DTSTART;TZID=America/New_York:20260630T100000
DTEND;TZID=America/New_York:20260630T103000
DTSTAMP:20260423T051208
CREATED:20260203T192355Z
LAST-MODIFIED:20260203T192446Z
UID:54130-1782813600-1782815400@baconfreelibrary.org
SUMMARY:All Together: Preschool Storytime
DESCRIPTION:Join us on Mondays and Tuesdays for stories and songs! Outdoors\, weather permitting. Bring along a blanket to get comfy. \nNote: if the weather is wet or below 55 degrees\, we’ll move this storytime indoors. \nThe historic nature of our building limits accessibility. This program is also offered in an accessible location at the Morse Institute Library (click here for dates\, times\, and more information).
URL:https://baconfreelibrary.org/event/stspring26/2026-06-30/
LOCATION:Bacon Free Library\, 58 Eliot Street\, Natick\, MA\, 01760\, United States
CATEGORIES:Featured,Kids Events
ATTACH;FMTTYPE=image/jpeg:https://baconfreelibrary.org/wp-content/uploads/2023/05/animalsreading.jpg
GEO:42.285064;-71.346109
X-APPLE-STRUCTURED-LOCATION;VALUE=URI;X-ADDRESS=Bacon Free Library 58 Eliot Street Natick MA 01760 United States;X-APPLE-RADIUS=500;X-TITLE=58 Eliot Street:geo:-71.346109,42.285064
END:VEVENT
END:VCALENDAR